BEGIN:VCALENDAR
VERSION:2.0
PRODID:-//Tukios.com/
BEGIN:VEVENT
UID:8e63c87a-35e0-48c8-b934-fe2a47e91595@www.rigglewaltermann.com
DTSTAMP:20260424T001121Z
DTSTART:20260427T183000Z
DTEND:20260427T184500Z
SUMMARY:Graveside Service
DESCRIPTION:
URL:https://www.rigglewaltermann.com/obituaries/michael-snowden
LOCATION:Crown Hill Cemetery   Centerville IN 47330
GEO:39.8178246;-84.9963518
END:VEVENT
END:VCALENDAR