BEGIN:VCALENDAR
VERSION:2.0
PRODID:-//Tukios.com/
BEGIN:VEVENT
UID:57266fcc-c3a8-453e-a4df-06821f8d3142@www.rigglewaltermann.com
DTSTAMP:20260424T000947Z
DTSTART:20260427T170000Z
DTEND:20260427T180000Z
SUMMARY:Funeral Service
DESCRIPTION:
URL:https://www.rigglewaltermann.com/obituaries/michael-snowden
LOCATION:Riggle - Waltermann Mortuary 32 South 11th Street  Richmond IN 
	47374
GEO:39.8279694;-84.887995
END:VEVENT
END:VCALENDAR