BEGIN:VCALENDAR
VERSION:2.0
PRODID:-//Tukios.com/
BEGIN:VEVENT
UID:32c39135-5dd1-4eed-ad01-a44286a152e0@www.rigglewaltermann.com
DTSTAMP:20260424T001251Z
DTSTART:20260427T150000Z
DTEND:20260427T170000Z
SUMMARY:Public Viewing
DESCRIPTION:
URL:https://www.rigglewaltermann.com/obituaries/michael-snowden
LOCATION:Riggle - Waltermann Mortuary 32 South 11th Street  Richmond IN 
	47374
GEO:39.8279694;-84.887995
END:VEVENT
END:VCALENDAR