BEGIN:VCALENDAR
VERSION:2.0
PRODID:-//Tukios.com/
BEGIN:VEVENT
UID:f092faec-de55-4825-ba8f-d01781b8aec1@www.rigglewaltermann.com
DTSTAMP:20260423T214232Z
DTSTART:20260523T173000Z
DTEND:20260523T193000Z
SUMMARY:Celebration of Life
DESCRIPTION:
URL:https://www.rigglewaltermann.com/obituaries/sharon-sherry-skinner
LOCATION:Webb Masonic Lodge#24 4090 S A St  Richmond IN 47374
GEO:39.827052;-84.8453221
END:VEVENT
END:VCALENDAR